BEGIN:VCALENDAR
VERSION:2.0
PRODID:-//jEvents 2.0 for Joomla//EN
CALSCALE:GREGORIAN
METHOD:PUBLISH
BEGIN:VTIMEZONE
TZID:Europe/Vienna
BEGIN:STANDARD
DTSTART:20101031T020000
RDATE:20110327T030000
TZOFFSETFROM:+0200
TZOFFSETTO:+0100
TZNAME:Europe/Vienna CET
END:STANDARD
BEGIN:STANDARD
DTSTART:20111030T020000
RDATE:20120325T030000
TZOFFSETFROM:+0200
TZOFFSETTO:+0100
TZNAME:Europe/Vienna CET
END:STANDARD
BEGIN:STANDARD
DTSTART:20121028T020000
RDATE:20130331T030000
TZOFFSETFROM:+0200
TZOFFSETTO:+0100
TZNAME:Europe/Vienna CET
END:STANDARD
BEGIN:STANDARD
DTSTART:20131027T020000
RDATE:20140330T030000
TZOFFSETFROM:+0200
TZOFFSETTO:+0100
TZNAME:Europe/Vienna CET
END:STANDARD
BEGIN:STANDARD
DTSTART:20141026T020000
RDATE:20150329T030000
TZOFFSETFROM:+0200
TZOFFSETTO:+0100
TZNAME:Europe/Vienna CET
END:STANDARD
BEGIN:STANDARD
DTSTART:20151025T020000
RDATE:20160327T030000
TZOFFSETFROM:+0200
TZOFFSETTO:+0100
TZNAME:Europe/Vienna CET
END:STANDARD
BEGIN:STANDARD
DTSTART:20161030T020000
RDATE:20170326T030000
TZOFFSETFROM:+0200
TZOFFSETTO:+0100
TZNAME:Europe/Vienna CET
END:STANDARD
BEGIN:STANDARD
DTSTART:20171029T020000
RDATE:20180325T030000
TZOFFSETFROM:+0200
TZOFFSETTO:+0100
TZNAME:Europe/Vienna CET
END:STANDARD
BEGIN:STANDARD
DTSTART:20181028T020000
RDATE:20190331T030000
TZOFFSETFROM:+0200
TZOFFSETTO:+0100
TZNAME:Europe/Vienna CET
END:STANDARD
BEGIN:STANDARD
DTSTART:20191027T020000
RDATE:20200329T030000
TZOFFSETFROM:+0200
TZOFFSETTO:+0100
TZNAME:Europe/Vienna CET
END:STANDARD
BEGIN:STANDARD
DTSTART:20201025T020000
RDATE:20210328T030000
TZOFFSETFROM:+0200
TZOFFSETTO:+0100
TZNAME:Europe/Vienna CET
END:STANDARD
BEGIN:STANDARD
DTSTART:20211031T020000
RDATE:20220327T030000
TZOFFSETFROM:+0200
TZOFFSETTO:+0100
TZNAME:Europe/Vienna CET
END:STANDARD
BEGIN:STANDARD
DTSTART:20221030T020000
RDATE:20230326T030000
TZOFFSETFROM:+0200
TZOFFSETTO:+0100
TZNAME:Europe/Vienna CET
END:STANDARD
BEGIN:STANDARD
DTSTART:20231029T020000
RDATE:20240331T030000
TZOFFSETFROM:+0200
TZOFFSETTO:+0100
TZNAME:Europe/Vienna CET
END:STANDARD
BEGIN:STANDARD
DTSTART:20241027T020000
RDATE:20250330T030000
TZOFFSETFROM:+0200
TZOFFSETTO:+0100
TZNAME:Europe/Vienna CET
END:STANDARD
BEGIN:STANDARD
DTSTART:20251026T020000
RDATE:20260329T030000
TZOFFSETFROM:+0200
TZOFFSETTO:+0100
TZNAME:Europe/Vienna CET
END:STANDARD
BEGIN:DAYLIGHT
DTSTART:20100614T193000
RDATE:20101031T020000
TZOFFSETFROM:+0100
TZOFFSETTO:+0200
TZNAME:Europe/Vienna CEST
END:DAYLIGHT
BEGIN:DAYLIGHT
DTSTART:20110327T030000
RDATE:20111030T020000
TZOFFSETFROM:+0100
TZOFFSETTO:+0200
TZNAME:Europe/Vienna CEST
END:DAYLIGHT
BEGIN:DAYLIGHT
DTSTART:20120325T030000
RDATE:20121028T020000
TZOFFSETFROM:+0100
TZOFFSETTO:+0200
TZNAME:Europe/Vienna CEST
END:DAYLIGHT
BEGIN:DAYLIGHT
DTSTART:20130331T030000
RDATE:20131027T020000
TZOFFSETFROM:+0100
TZOFFSETTO:+0200
TZNAME:Europe/Vienna CEST
END:DAYLIGHT
BEGIN:DAYLIGHT
DTSTART:20140330T030000
RDATE:20141026T020000
TZOFFSETFROM:+0100
TZOFFSETTO:+0200
TZNAME:Europe/Vienna CEST
END:DAYLIGHT
BEGIN:DAYLIGHT
DTSTART:20150329T030000
RDATE:20151025T020000
TZOFFSETFROM:+0100
TZOFFSETTO:+0200
TZNAME:Europe/Vienna CEST
END:DAYLIGHT
BEGIN:DAYLIGHT
DTSTART:20160327T030000
RDATE:20161030T020000
TZOFFSETFROM:+0100
TZOFFSETTO:+0200
TZNAME:Europe/Vienna CEST
END:DAYLIGHT
BEGIN:DAYLIGHT
DTSTART:20170326T030000
RDATE:20171029T020000
TZOFFSETFROM:+0100
TZOFFSETTO:+0200
TZNAME:Europe/Vienna CEST
END:DAYLIGHT
BEGIN:DAYLIGHT
DTSTART:20180325T030000
RDATE:20181028T020000
TZOFFSETFROM:+0100
TZOFFSETTO:+0200
TZNAME:Europe/Vienna CEST
END:DAYLIGHT
BEGIN:DAYLIGHT
DTSTART:20190331T030000
RDATE:20191027T020000
TZOFFSETFROM:+0100
TZOFFSETTO:+0200
TZNAME:Europe/Vienna CEST
END:DAYLIGHT
BEGIN:DAYLIGHT
DTSTART:20200329T030000
RDATE:20201025T020000
TZOFFSETFROM:+0100
TZOFFSETTO:+0200
TZNAME:Europe/Vienna CEST
END:DAYLIGHT
BEGIN:DAYLIGHT
DTSTART:20210328T030000
RDATE:20211031T020000
TZOFFSETFROM:+0100
TZOFFSETTO:+0200
TZNAME:Europe/Vienna CEST
END:DAYLIGHT
BEGIN:DAYLIGHT
DTSTART:20220327T030000
RDATE:20221030T020000
TZOFFSETFROM:+0100
TZOFFSETTO:+0200
TZNAME:Europe/Vienna CEST
END:DAYLIGHT
BEGIN:DAYLIGHT
DTSTART:20230326T030000
RDATE:20231029T020000
TZOFFSETFROM:+0100
TZOFFSETTO:+0200
TZNAME:Europe/Vienna CEST
END:DAYLIGHT
BEGIN:DAYLIGHT
DTSTART:20240331T030000
RDATE:20241027T020000
TZOFFSETFROM:+0100
TZOFFSETTO:+0200
TZNAME:Europe/Vienna CEST
END:DAYLIGHT
BEGIN:DAYLIGHT
DTSTART:20250330T030000
RDATE:20251026T020000
TZOFFSETFROM:+0100
TZOFFSETTO:+0200
TZNAME:Europe/Vienna CEST
END:DAYLIGHT
END:VTIMEZONE
BEGIN:VEVENT
UID:61ce3f8688782d03d1211d0ff96ac7cf
CATEGORIES:Kammermusikkonzert
CREATED:20160416T204345
SUMMARY:Beethoven-Festival: Vortrag "Freude, schöner Götterfunken"
LOCATION:Festsaal der Bezirksvorstehung Döbling\, Gatterburggasse 14 \, 1190 Wien
DESCRIPTION:BEETHOVEN FESTIVAL 2011\n „FREUDE, SCHÖNER GÖTTERFUNKEN“  Mittwoch, 15. Jun
 i 2011, 19.30 Uhr \nFestsaal der Bezirksvorstehung Döbling, Gatterburggasse
  14 \n \nDer Autor und Moderator Otto BRUSATTI \nspricht über Beethovens 9.
  Symphonie, liest vor, erzählt... \n \nDas ALEKSIĆ Streichtrio\n spielt aus
  Werken von Beethoven, Mozart, \nSchubert, J.Strauss und W.Wagner \n \nAnsc
 hließend Beisammensein mit Weinen vom Weingut Wolff \n \n \nEintritt: Euro 
 15.- Abendkassa/Studenten 10.- \nAnmeldung: 0664/43 121 43, E-Mail: s_ritte
 nauer@hotmail.com \n \n Mit freundlicher Unterstützung der Bezirksvorstehun
 g Döbling und MA7 Wissenschaft \n \n \nDie Veranstaltungsreihe steht unter 
 dem Ehrenschutz von Vizekanzler und \nAußenminister Dr. Michael Spindelegge
 r, Landeshauptmann Dr. Erwin Pröll, \nStadtrat für Kultur Dr. Andreas Maila
 th-Pokorny, WKO-Präsident Dr. Christoph Leitl und \nBezirksvorsteher von Dö
 bling Adolf Tiller \n \nhttp://www.beethoven-vienna.at" href="<a href="http
 ://www.beethoven-vienna.at">http://www.beethoven-vienna.at</a>"&gt;www.beet
 hoven-vienna.at \n\n
X-ALT-DESC;FMTTYPE=text/html:<p style="text-align: center;" mce_style="text-align: center;"><b>BEETHOVEN
 &nbsp;FESTIVAL&nbsp;2011</b><b></b><b></b></p><h2 style="text-align: center
 ;" mce_style="text-align: center;"><b> </b><i><b>„FREUDE,&nbsp;SCHÖNER&nbsp
 ;GÖTTERFUNKEN“ </b></i></h2><p style="text-align: center;" mce_style="text-
 align: center;"><b> </b><b>Mittwoch,&nbsp;15.&nbsp;Juni&nbsp;2011,&nbsp;19.
 30&nbsp;Uhr </b><br><b>Festsaal&nbsp;der&nbsp;Bezirksvorstehung&nbsp;Döblin
 g,&nbsp;Gatterburggasse&nbsp;14 </b><br> <br>Der&nbsp;Autor&nbsp;und&nbsp;M
 oderator&nbsp;Otto&nbsp;BRUSATTI <br>spricht&nbsp;über&nbsp;Beethovens&nbsp
 ;9.&nbsp;Symphonie,&nbsp;liest&nbsp;vor,&nbsp;erzählt... <br> <br>Das ALEKS
 IĆ Streichtrio<br> spielt&nbsp;aus&nbsp;Werken&nbsp;von&nbsp;Beethoven,&nbs
 p;Mozart, <br>Schubert,&nbsp;J.Strauss&nbsp;und&nbsp;W.Wagner <br> <br>Ansc
 hließend&nbsp;Beisammensein&nbsp;mit&nbsp;Weinen&nbsp;vom&nbsp;Weingut&nbsp
 ;Wolff <br> <br> <br>Eintritt:&nbsp;Euro&nbsp;15.-&nbsp;Abendkassa/Studente
 n&nbsp;10.- <br>Anmeldung:&nbsp;0664/43&nbsp;121&nbsp;43,&nbsp;E-Mail:&nbsp
 ;s_rittenauer@hotmail.com <br> <br> Mit&nbsp;freundlicher&nbsp;Unterstützun
 g&nbsp;der&nbsp;Bezirksvorstehung&nbsp;Döbling&nbsp;und&nbsp;MA7&nbsp;Wisse
 nschaft <br> <br> <br>Die&nbsp;Veranstaltungsreihe&nbsp;steht&nbsp;unter&nb
 sp;dem&nbsp;Ehrenschutz&nbsp;von&nbsp;Vizekanzler&nbsp;und <br>Außenministe
 r&nbsp;Dr.&nbsp;Michael&nbsp;Spindelegger,&nbsp;Landeshauptmann&nbsp;Dr.&nb
 sp;Erwin&nbsp;Pröll, <br>Stadtrat&nbsp;für&nbsp;Kultur&nbsp;Dr.&nbsp;Andrea
 s&nbsp;Mailath-Pokorny,&nbsp;WKO-Präsident&nbsp;Dr.&nbsp;Christoph&nbsp;Lei
 tl&nbsp;und <br>Bezirksvorsteher&nbsp;von&nbsp;Döbling&nbsp;Adolf&nbsp;Till
 er <br> <br><a mce_href="https://aleksic-streichtrio.com/<a href="http://ww
 w.beethoven-vienna.at">http://www.beethoven-vienna.at</a>" href="https://al
 eksic-streichtrio.com/<a href="http://www.beethoven-vienna.at">http://www.b
 eethoven-vienna.at</a>">www.beethoven-vienna.at</a> <br></p>
CONTACT:Aleksić Streichtrio, office@streichtrio.at (mailto:office@streichtrio.at)
DTSTAMP:20260423T095421
DTSTART;TZID=Europe/Vienna:20110615T193000
DTEND;TZID=Europe/Vienna:20110615T235959
SEQUENCE:0
TRANSP:OPAQUE
END:VEVENT
END:VCALENDAR